Felt | Verdi |
AlreadyApplied | True |
Aperture | 8.0 |
ApertureValue | 8.0 |
Artist | Ole Andreas Valdal |
BitsPerSample | 8 |
BlueHue | 0 |
BlueSaturation | 0 |
Brightness | +40 |
By-line | Ole Andreas Valdal |
CameraProfile | ACR 4.4 |
ChromaticAberrationB | 0 |
ChromaticAberrationR | 0 |
CircleOfConfusion | 0.019 mm |
Clarity | +4 |
ColorComponents | 1 |
ColorMode | RGB |
ColorNoiseReduction | 25 |
ColorSpace | sRGB |
ColorTemperature | 5665 |
Contrast | +25 |
ConvertToGrayscale | True |
Copyright | Ole A. Valdal |
CopyrightFlag | True |
CopyrightNotice | Ole A. Valdal |
CreateDate (1) | 2009:02:01 12:43:03+01:00 |
CreateDate | 2009:02:01 12:43:03 |
Creator | Ole Andreas Valdal |
CropAngle | 1.452 |
CropBottom | 1 |
CropLeft | 0.307811 |
CropRight | 0.907886 |
CropTop | 0.05307 |
CustomRendered | Normal |
DateTimeDigitized | 2009:02:01 12:43:03+01:00 |
DateTimeOriginal (1) | 2009:02:01 12:43:03+01:00 |
DateTimeOriginal | 2009:02:01 12:43:03 |
Defringe | 0 |
ExifImageHeight | 800 |
ExifImageWidth | 800 |
Exposure | +0.74 |
ExposureCompensation | +1 |
ExposureMode | Auto |
ExposureProgram | Aperture-priority AE |
ExposureTime | 1/200 |
FillLight | 0 |
Firmware | 1.0.5 |
Flash | Off, Did not fire |
FlashCompensation | 1 |
FlashFired | False |
FlashFunction | False |
FlashMode | Off |
FlashRedEyeMode | False |
FlashReturn | No return detection |
FNumber | 8.0 |
FocalLength | 10.0 mm |
FocalLength35efl | 10.0 mm (35 mm equivalent: 16.0 mm) |
Format | image/jpeg |
FOV | 96.7 deg |
GrayMixerAqua | -18 |
GrayMixerBlue | -20 |
GrayMixerGreen | -30 |
GrayMixerMagenta | +4 |
GrayMixerOrange | -55 |
GrayMixerPurple | +16 |
GrayMixerRed | -10 |
GrayMixerYellow | -28 |
GreenHue | 0 |
GreenSaturation | 0 |
HasCrop | True |
HasSettings | True |
HierarchicalSubject | Varaldskog |
HighlightRecovery | 0 |
HyperfocalDistance | 0.67 m |
ICCProfileName | sRGB IEC61966-2.1 |
ImageHeight | 800 |
ImageNumber | 208 |
ImageSize | 800x800 |
ImageWidth | 800 |
ISO | 125 |
Keywords | Varaldskog |
Lens | 10.0-20.0 mm |
LensInfo | 10-20mm f/? |
LightValue | 13.3 |
LuminanceSmoothing | 0 |
Make | Canon |
Marked | True |
MaxApertureValue | 4.0 |
Megapixels | 0.640 |
MeteringMode | Multi-segment |
Model | Canon EOS 30D |
ModifyDate (1) | 2009:02:01 23:00:42+01:00 |
ModifyDate | 2009:02:01 23:00:42 |
Orientation | Horizontal (normal) |
OwnerName | Ole Andreas Valdal |
ParametricDarks | 0 |
ParametricHighlights | 0 |
ParametricHighlightSplit | 75 |
ParametricLights | +5 |
ParametricMidtoneSplit | 50 |
ParametricShadows | -5 |
ParametricShadowSplit | 25 |
PostCropVignetteAmount | 0 |
ProfileDescription | sRGB IEC61966-2.1 |
Rating | 0 |
RawFileName | IMG_8109.CR2 |
RedHue | 0 |
RedSaturation | 0 |
Rights | Ole A. Valdal |
ScaleFactor35efl | 1.6 |
SceneCaptureType | Standard |
SerialNumber | 1730906613 |
Shadows | 7 |
ShadowTint | 0 |
SharpenDetail | 25 |
SharpenEdgeMasking | 0 |
SharpenRadius | +1.0 |
Sharpness | 25 |
ShutterSpeed | 1/200 |
ShutterSpeedValue | 1/200 |
Software | Adobe Photoshop CS4 Windows |
SplitToningBalance | 0 |
SplitToningHighlightHue | 0 |
SplitToningHighlightSaturation | 0 |
SplitToningShadowHue | 0 |
SplitToningShadowSaturation | 0 |
Subject | Varaldskog |
Tint | -7 |
ToneCurve | 0, 0, 32, 22, 64, 56, 128, 128, 192, 196, 255, 255 |
ToneCurveName | Medium Contrast |
URL | http://www.valdal.org |
URL_List | |
Version | 5.2 |
VignetteAmount | 0 |
WebStatement | http://www.valdal.org |
WhiteBalance (2) | Custom |
WhiteBalance | Auto |